BEGIN:VCALENDAR
VERSION:2.0
PRODID:-//SP Aargau - ECPv6.2.2.1//NONSGML v1.0//EN
CALSCALE:GREGORIAN
METHOD:PUBLISH
X-WR-CALNAME:SP Aargau
X-ORIGINAL-URL:https://sp-aargau.ch
X-WR-CALDESC:Veranstaltungen im SP Aargau
REFRESH-INTERVAL;VALUE=DURATION:PT1H
X-Robots-Tag:noindex
X-PUBLISHED-TTL:PT1H
BEGIN:VTIMEZONE
TZID:Europe/Berlin
BEGIN:DAYLIGHT
TZOFFSETFROM:+0100
TZOFFSETTO:+0200
TZNAME:CEST
DTSTART:20230326T010000
END:DAYLIGHT
BEGIN:STANDARD
TZOFFSETFROM:+0200
TZOFFSETTO:+0100
TZNAME:CET
DTSTART:20231029T010000
END:STANDARD
TZID:Europe/Zurich
BEGIN:DAYLIGHT
TZOFFSETFROM:+0100
TZOFFSETTO:+0200
TZNAME:CEST
DTSTART:20230326T010000
END:DAYLIGHT
BEGIN:STANDARD
TZOFFSETFROM:+0200
TZOFFSETTO:+0100
TZNAME:CET
DTSTART:20231029T010000
END:STANDARD
END:VTIMEZONE
BEGIN:VEVENT
DTSTART;TZID=Europe/Berlin:20231025T183000
DTEND;TZID=Europe/Berlin:20231025T183000
DTSTAMP:20231024T145647
CREATED:20221020T090920Z
LAST-MODIFIED:20221020T090920Z
UID:86045-1698258600-1698258600@sp-aargau.ch
SUMMARY:GL-Sitzung
DESCRIPTION:
URL:https://sp-aargau.ch/veranstaltung/gl-sitzung-33/
END:VEVENT
BEGIN:VEVENT
DTSTART;TZID=Europe/Berlin:20231026T190000
DTEND;TZID=Europe/Berlin:20231026T210000
DTSTAMP:20231024T145647
CREATED:20230512T122604Z
LAST-MODIFIED:20231023T140310Z
UID:86881-1698346800-1698354000@sp-aargau.ch
SUMMARY:Ausserordentlicher Parteitag
DESCRIPTION:
URL:https://sp-aargau.ch/veranstaltung/aeusserordentlicher-parteitag/
END:VEVENT
BEGIN:VEVENT
DTSTART;TZID=Europe/Berlin:20231108T183000
DTEND;TZID=Europe/Berlin:20231108T183000
DTSTAMP:20231024T145647
CREATED:20221020T090921Z
LAST-MODIFIED:20221020T090921Z
UID:86046-1699468200-1699468200@sp-aargau.ch
SUMMARY:GL-Sitzung
DESCRIPTION:
URL:https://sp-aargau.ch/veranstaltung/gl-sitzung-34/
END:VEVENT
BEGIN:VEVENT
DTSTART;TZID=Europe/Zurich:20231109T193000
DTEND;TZID=Europe/Zurich:20231109T210000
DTSTAMP:20231024T145647
CREATED:20230928T135205Z
LAST-MODIFIED:20230928T135205Z
UID:88165-1699558200-1699563600@sp-aargau.ch
SUMMARY:Hearing Bundesratswahlen
DESCRIPTION:Die Kandidat:innen der SP fürs Bundesratsticket stellen sich den Fragen des Publikums.
URL:https://sp-aargau.ch/veranstaltung/hearing-bundesratswahlen/
LOCATION:Hotel Olten\, Olten
END:VEVENT
BEGIN:VEVENT
DTSTART;TZID=Europe/Berlin:20231109T193000
DTEND;TZID=Europe/Berlin:20231109T235900
DTSTAMP:20231024T145647
CREATED:20220926T065637Z
LAST-MODIFIED:20220926T065637Z
UID:86025-1699558200-1699574340@sp-aargau.ch
SUMMARY:Herbstanlass SP60+
DESCRIPTION:
URL:https://sp-aargau.ch/veranstaltung/herbstanlass-sp60/
CATEGORIES:60+
END:VEVENT
BEGIN:VEVENT
DTSTART;TZID=Europe/Zurich:20231113T190000
DTEND;TZID=Europe/Zurich:20231113T210000
DTSTAMP:20231024T145647
CREATED:20230921T111912Z
LAST-MODIFIED:20230921T111912Z
UID:88058-1699902000-1699909200@sp-aargau.ch
SUMMARY:Dankesanlass Wahlen
DESCRIPTION:Details folgen.
URL:https://sp-aargau.ch/veranstaltung/dankesanlass-wahlen/
END:VEVENT
BEGIN:VEVENT
DTSTART;TZID=Europe/Berlin:20231114T190000
DTEND;TZID=Europe/Berlin:20231114T190000
DTSTAMP:20231024T145647
CREATED:20221020T091052Z
LAST-MODIFIED:20221020T091052Z
UID:86061-1699988400-1699988400@sp-aargau.ch
SUMMARY:Präsidienkonferenz
DESCRIPTION:
URL:https://sp-aargau.ch/veranstaltung/praesidienkonferenz-5/
END:VEVENT
BEGIN:VEVENT
DTSTART;TZID=Europe/Berlin:20231119T000000
DTEND;TZID=Europe/Berlin:20231119T000000
DTSTAMP:20231024T145647
CREATED:20221020T091052Z
LAST-MODIFIED:20221020T091052Z
UID:86062-1700352000-1700352000@sp-aargau.ch
SUMMARY:2. Wahlgang
DESCRIPTION:
URL:https://sp-aargau.ch/veranstaltung/2-wahlgang/
END:VEVENT
BEGIN:VEVENT
DTSTART;VALUE=DATE:20231125
DTEND;VALUE=DATE:20231126
DTSTAMP:20231024T145647
CREATED:20221124T070742Z
LAST-MODIFIED:20221124T070742Z
UID:86074-1700870400-1700956799@sp-aargau.ch
SUMMARY:SP Frauen: Herbstversammlung
DESCRIPTION:Genauer Ort und Uhrzeit folgen.
URL:https://sp-aargau.ch/veranstaltung/sp-frauen-herbstversammlung/
END:VEVENT
BEGIN:VEVENT
DTSTART;TZID=Europe/Berlin:20231129T183000
DTEND;TZID=Europe/Berlin:20231129T183000
DTSTAMP:20231024T145647
CREATED:20221020T090921Z
LAST-MODIFIED:20221020T090921Z
UID:86047-1701282600-1701282600@sp-aargau.ch
SUMMARY:GL-Sitzung
DESCRIPTION:
URL:https://sp-aargau.ch/veranstaltung/gl-sitzung-35/
END:VEVENT
BEGIN:VEVENT
DTSTART;TZID=Europe/Berlin:20231201T000000
DTEND;TZID=Europe/Berlin:20231201T000000
DTSTAMP:20231024T145647
CREATED:20221020T091106Z
LAST-MODIFIED:20221020T091106Z
UID:86064-1701388800-1701388800@sp-aargau.ch
SUMMARY:Parteirat SPS
DESCRIPTION:
URL:https://sp-aargau.ch/veranstaltung/parteirat-sps-4/
END:VEVENT
BEGIN:VEVENT
DTSTART;TZID=Europe/Berlin:20231208T000000
DTEND;TZID=Europe/Berlin:20231208T000000
DTSTAMP:20231024T145647
CREATED:20221020T090752Z
LAST-MODIFIED:20221020T090752Z
UID:86031-1701993600-1701993600@sp-aargau.ch
SUMMARY:GL-Retraite
DESCRIPTION:
URL:https://sp-aargau.ch/veranstaltung/gl-retraite/
END:VEVENT
BEGIN:VEVENT
DTSTART;TZID=Europe/Berlin:20231220T183000
DTEND;TZID=Europe/Berlin:20231220T183000
DTSTAMP:20231024T145647
CREATED:20221020T090752Z
LAST-MODIFIED:20221020T090752Z
UID:86032-1703097000-1703097000@sp-aargau.ch
SUMMARY:GL-Sitzung
DESCRIPTION:
URL:https://sp-aargau.ch/veranstaltung/gl-sitzung-20/
END:VEVENT
END:VCALENDAR