BEGIN:VCALENDAR
VERSION:2.0
PRODID:-//SP Aargau - ECPv6.15.11//NONSGML v1.0//EN
CALSCALE:GREGORIAN
METHOD:PUBLISH
X-ORIGINAL-URL:https://sp-aargau.ch
X-WR-CALDESC:Veranstaltungen im SP Aargau
REFRESH-INTERVAL;VALUE=DURATION:PT1H
X-Robots-Tag:noindex
X-PUBLISHED-TTL:PT1H
BEGIN:VTIMEZONE
TZID:Europe/Zurich
BEGIN:DAYLIGHT
TZOFFSETFROM:+0100
TZOFFSETTO:+0200
TZNAME:CEST
DTSTART:20220327T010000
END:DAYLIGHT
BEGIN:STANDARD
TZOFFSETFROM:+0200
TZOFFSETTO:+0100
TZNAME:CET
DTSTART:20221030T010000
END:STANDARD
BEGIN:DAYLIGHT
TZOFFSETFROM:+0100
TZOFFSETTO:+0200
TZNAME:CEST
DTSTART:20230326T010000
END:DAYLIGHT
BEGIN:STANDARD
TZOFFSETFROM:+0200
TZOFFSETTO:+0100
TZNAME:CET
DTSTART:20231029T010000
END:STANDARD
BEGIN:DAYLIGHT
TZOFFSETFROM:+0100
TZOFFSETTO:+0200
TZNAME:CEST
DTSTART:20240331T010000
END:DAYLIGHT
BEGIN:STANDARD
TZOFFSETFROM:+0200
TZOFFSETTO:+0100
TZNAME:CET
DTSTART:20241027T010000
END:STANDARD
END:VTIMEZONE
BEGIN:VEVENT
DTSTART;TZID=Europe/Zurich:20230827T110000
DTEND;TZID=Europe/Zurich:20230827T110000
DTSTAMP:20260420T202518
CREATED:20230817T083022Z
LAST-MODIFIED:20230817T083022Z
UID:10000400-1693134000-1693134000@sp-aargau.ch
SUMMARY:Der Platz der Frau in der Landwirtschaft
DESCRIPTION:Wo ist der Platz der Frau in der überwiegend männlich dominierten Landwirtschaft? Judith Häseli\, Landwirtin und Betriebsleiterin\, gibt persönliche Einblicke\, wie es als Frau in einer Führungsposition in diesem Bereich ist und was sie aktuell beschäftigt. \nFrauen in der Landwirtschaft am Beispiel einer Betriebsleiterin \nInputs von Judith Häseli\, Landwirtin\, Betriebsleiterin \nVeranstaltungsort: Uelberg 2 in Zeihen
URL:https://sp-aargau.ch/veranstaltung/der-platz-der-frau-in-der-landwirtschaft/
LOCATION:Uelberg 2\, Zeihen
CATEGORIES:öffentliche Veranstaltung
END:VEVENT
BEGIN:VEVENT
DTSTART;TZID=Europe/Zurich:20230820T100000
DTEND;TZID=Europe/Zurich:20230820T120000
DTSTAMP:20260420T202518
CREATED:20230817T081638Z
LAST-MODIFIED:20230817T082654Z
UID:10000399-1692525600-1692532800@sp-aargau.ch
SUMMARY:Kuhmilch oder Haferdrink - was darf es sein?
DESCRIPTION:Was bedeutet die Milchproduktion im Jahr 2023? Ist Milch wirklich gesund und nachhaltig? Sabrina Schlegel erzählt\, wieso es ihr die Milch angetan hat. Weshalb sie eine begeisterte Züchterin ist und welchen Zielkonflikten sie in der Landwirtschaft begegnet. \nZielkonflikte in der Landwirtschaft am Beispiel der Milchproduktion \nInputs von Sabrina Schlegel\, Landwirtin\, Betriebsleiterin\, Präsidentin Mittelland Milch \nVeranstaltungsort: Uelberg 2 in Zeihen
URL:https://sp-aargau.ch/veranstaltung/kuhmilch-oder-haferdrink-was-darf-es-sein/
LOCATION:Uelberg 2\, Zeihen
CATEGORIES:öffentliche Veranstaltung
END:VEVENT
END:VCALENDAR